1.000000
0.000000
0.000000
-1.000000
549484.000
4123094.000
