1.000000
0.000000
0.000000
-1.000000
549525.000
4116160.000
