1.000000
0.000000
0.000000
-1.000000
582605.000
4137248.000
