1.000000
0.000000
0.000000
-1.000000
577071.000
4137191.000
