1.000000
0.000000
0.000000
-1.000000
582674.000
4130313.000
