1.000000
0.000000
0.000000
-1.000000
577135.000
4130257.000
