1.000000
0.000000
0.000000
-1.000000
571537.000
4137138.000
