1.000000
0.000000
0.000000
-1.000000
566003.000
4137088.000
