1.000000
0.000000
0.000000
-1.000000
571597.000
4130204.000
