1.000000
0.000000
0.000000
-1.000000
566058.000
4130154.000
