1.000000
0.000000
0.000000
-1.000000
554940.000
4137000.000
