1.000000
0.000000
0.000000
-1.000000
560520.000
4130108.000
