1.000000
0.000000
0.000000
-1.000000
549401.000
4136962.000
