1.000000
0.000000
0.000000
-1.000000
582467.000
4151116.000
