1.000000
0.000000
0.000000
-1.000000
576942.000
4151059.000
