1.000000
0.000000
0.000000
-1.000000
582536.000
4144182.000
