1.000000
0.000000
0.000000
-1.000000
577007.000
4144125.000
