1.000000
0.000000
0.000000
-1.000000
543794.000
4150795.000
