1.000000
0.000000
0.000000
-1.000000
549360.000
4143896.000
