1.000000
0.000000
0.000000
-1.000000
543840.000
4143861.000
