1.000000
0.000000
0.000000
-1.000000
582333.000
4164980.000
