1.000000
0.000000
0.000000
-1.000000
576817.000
4164924.000
