1.000000
0.000000
0.000000
-1.000000
582402.000
4158046.000
