1.000000
0.000000
0.000000
-1.000000
576882.000
4157989.000
