1.000000
0.000000
0.000000
-1.000000
571302.000
4164870.000
