1.000000
0.000000
0.000000
-1.000000
565786.000
4164821.000
