1.000000
0.000000
0.000000
-1.000000
571362.000
4157936.000
