1.000000
0.000000
0.000000
-1.000000
565842.000
4157886.000
