1.000000
0.000000
0.000000
-1.000000
560271.000
4164775.000
