1.000000
0.000000
0.000000
-1.000000
554756.000
4164732.000
