1.000000
0.000000
0.000000
-1.000000
560321.000
4157841.000
