1.000000
0.000000
0.000000
-1.000000
554801.000
4157798.000
