1.000000
0.000000
0.000000
-1.000000
549240.000
4164694.000
