1.000000
0.000000
0.000000
-1.000000
543725.000
4164659.000
