1.000000
0.000000
0.000000
-1.000000
549281.000
4157760.000
