1.000000
0.000000
0.000000
-1.000000
543762.000
4157724.000
