1.000000
0.000000
0.000000
-1.000000
582194.000
4178849.000
