1.000000
0.000000
0.000000
-1.000000
576688.000
4178792.000
