1.000000
0.000000
0.000000
-1.000000
582263.000
4171915.000
