1.000000
0.000000
0.000000
-1.000000
576753.000
4171858.000
