1.000000
0.000000
0.000000
-1.000000
571182.000
4178739.000
