1.000000
0.000000
0.000000
-1.000000
565676.000
4178689.000
