1.000000
0.000000
0.000000
-1.000000
571260.000
4171805.000
