1.000000
0.000000
0.000000
-1.000000
560170.000
4178643.000
