1.000000
0.000000
0.000000
-1.000000
554664.000
4178601.000
