1.000000
0.000000
0.000000
-1.000000
554710.000
4171666.000
