1.000000
0.000000
0.000000
-1.000000
549157.000
4178562.000
