1.000000
0.000000
0.000000
-1.000000
543652.000
4178527.000
