1.000000
0.000000
0.000000
-1.000000
549199.000
4171628.000
