1.000000
0.000000
0.000000
-1.000000
543688.000
4171593.000
